BEGIN:VCALENDAR
VERSION:2.0
PRODID:-//TH!NK - ECPv6.15.20//NONSGML v1.0//EN
CALSCALE:GREGORIAN
METHOD:PUBLISH
X-ORIGINAL-URL:https://thinkshow.it
X-WR-CALDESC:Eventi per TH!NK
REFRESH-INTERVAL;VALUE=DURATION:PT1H
X-Robots-Tag:noindex
X-PUBLISHED-TTL:PT1H
BEGIN:VTIMEZONE
TZID:Europe/Rome
BEGIN:DAYLIGHT
TZOFFSETFROM:+0100
TZOFFSETTO:+0200
TZNAME:CEST
DTSTART:20240331T010000
END:DAYLIGHT
BEGIN:STANDARD
TZOFFSETFROM:+0200
TZOFFSETTO:+0100
TZNAME:CET
DTSTART:20241027T010000
END:STANDARD
BEGIN:DAYLIGHT
TZOFFSETFROM:+0100
TZOFFSETTO:+0200
TZNAME:CEST
DTSTART:20250330T010000
END:DAYLIGHT
BEGIN:STANDARD
TZOFFSETFROM:+0200
TZOFFSETTO:+0100
TZNAME:CET
DTSTART:20251026T010000
END:STANDARD
BEGIN:DAYLIGHT
TZOFFSETFROM:+0100
TZOFFSETTO:+0200
TZNAME:CEST
DTSTART:20260329T010000
END:DAYLIGHT
BEGIN:STANDARD
TZOFFSETFROM:+0200
TZOFFSETTO:+0100
TZNAME:CET
DTSTART:20261025T010000
END:STANDARD
END:VTIMEZONE
BEGIN:VEVENT
DTSTART;VALUE=DATE:20251206
DTEND;VALUE=DATE:20251207
DTSTAMP:20260422T122851
CREATED:20251031T155803Z
LAST-MODIFIED:20251103T131219Z
UID:10000007-1764979200-1765065599@thinkshow.it
SUMMARY:TH!NK - Pordenone
DESCRIPTION:TH!NK arriva il 6 dicembre al Teatro Pileo di Pordenone: Un viaggio sorprendente che fonde teatro\, letteratura e filosofia con illusioni mozzafiato\, per uno spettacolo che non si limita a stupire\, ma ti costringe a pensare per davvero. \nUn gioco di specchi in cui l’arte di leggere nella mente – resa celebre da serie televisive come The Mentalist o Lie to Me – diventa il punto di partenza per esplorare le contraddizioni del pensiero umano: “zone di frizione” in cui le nostre credenze entrano in contrasto tra loro e non è più così ovvio che cosa è reale e che cosa non lo è. \nAttraverso esperimenti psicologici\, illusioni percettive e momenti di lettura del pensiero\, il pubblico sarà protagonista di performance che sfidano l’impossibile. \nUno spettacolo sovversivo\, potente\, rivoluzionario\, che ti porta a camminare sul confine tra realtà e finzione… per arrivare a rendersi conto che si tratta di una linea molto più sfumata di quello che siamo disposti ad accettare. \nE tu sei pronto a mettere in questione tutte le tue certezze? \nACQUISTA BIGLIETTI \n  \n﻿﻿
URL:https://thinkshow.it/event/thnk-pordenone/
ATTACH;FMTTYPE=image/jpeg:https://thinkshow.it/wp-content/uploads/2025/10/Pordenone.jpg
END:VEVENT
BEGIN:VEVENT
DTSTART;VALUE=DATE:20251205
DTEND;VALUE=DATE:20251206
DTSTAMP:20260422T122851
CREATED:20250701T145940Z
LAST-MODIFIED:20251006T125936Z
UID:10000005-1764892800-1764979199@thinkshow.it
SUMMARY:TH!NK - Padova
DESCRIPTION:TH!NK arriva il 5 dicembre al Teatro Ai Colli di Padova: Un viaggio sorprendente che fonde teatro\, letteratura e filosofia con illusioni mozzafiato\, per uno spettacolo che non si limita a stupire\, ma ti costringe a pensare per davvero. \nUn gioco di specchi in cui l’arte di leggere nella mente – resa celebre da serie televisive come The Mentalist o Lie to Me – diventa il punto di partenza per esplorare le contraddizioni del pensiero umano: “zone di frizione” in cui le nostre credenze entrano in contrasto tra loro e non è più così ovvio che cosa è reale e che cosa non lo è. \nAttraverso esperimenti psicologici\, illusioni percettive e momenti di lettura del pensiero\, il pubblico sarà protagonista di performance che sfidano l’impossibile. \nUno spettacolo sovversivo\, potente\, rivoluzionario\, che ti porta a camminare sul confine tra realtà e finzione… per arrivare a rendersi conto che si tratta di una linea molto più sfumata di quello che siamo disposti ad accettare. \nE tu sei pronto a mettere in questione tutte le tue certezze? \nACQUISTA BIGLIETTI \n  \n﻿﻿
URL:https://thinkshow.it/event/thnk-padova/
ATTACH;FMTTYPE=image/jpeg:https://thinkshow.it/wp-content/uploads/2025/07/Padova.jpg
END:VEVENT
BEGIN:VEVENT
DTSTART;VALUE=DATE:20251204
DTEND;VALUE=DATE:20251205
DTSTAMP:20260422T122851
CREATED:20250701T145755Z
LAST-MODIFIED:20251006T130035Z
UID:10000004-1764806400-1764892799@thinkshow.it
SUMMARY:TH!NK - Modena
DESCRIPTION:TH!NK arriva il 4 dicembre al Teatro Michelangelo di Modena: Un viaggio sorprendente che fonde teatro\, letteratura e filosofia con illusioni mozzafiato\, per uno spettacolo che non si limita a stupire\, ma ti costringe a pensare per davvero. \nUn gioco di specchi in cui l’arte di leggere nella mente – resa celebre da serie televisive come The Mentalist o Lie to Me – diventa il punto di partenza per esplorare le contraddizioni del pensiero umano: “zone di frizione” in cui le nostre credenze entrano in contrasto tra loro e non è più così ovvio che cosa è reale e che cosa non lo è. \nAttraverso esperimenti psicologici\, illusioni percettive e momenti di lettura del pensiero\, il pubblico sarà protagonista di performance che sfidano l’impossibile. \nUno spettacolo sovversivo\, potente\, rivoluzionario\, che ti porta a camminare sul confine tra realtà e finzione… per arrivare a rendersi conto che si tratta di una linea molto più sfumata di quello che siamo disposti ad accettare. \nE tu sei pronto a mettere in questione tutte le tue certezze? \nACQUISTA BIGLIETTI \n  \n﻿﻿
URL:https://thinkshow.it/event/thnk-modena/
ATTACH;FMTTYPE=image/jpeg:https://thinkshow.it/wp-content/uploads/2025/07/Modena.jpg
END:VEVENT
BEGIN:VEVENT
DTSTART;VALUE=DATE:20251202
DTEND;VALUE=DATE:20251203
DTSTAMP:20260422T122851
CREATED:20250701T145647Z
LAST-MODIFIED:20251006T130118Z
UID:10000003-1764633600-1764719999@thinkshow.it
SUMMARY:TH!NK - Brescia
DESCRIPTION:TH!NK arriva il 2 dicembre al Teatro Santa Giulia di Brescia: Un viaggio sorprendente che fonde teatro\, letteratura e filosofia con illusioni mozzafiato\, per uno spettacolo che non si limita a stupire\, ma ti costringe a pensare per davvero. \nUn gioco di specchi in cui l’arte di leggere nella mente – resa celebre da serie televisive come The Mentalist o Lie to Me – diventa il punto di partenza per esplorare le contraddizioni del pensiero umano: “zone di frizione” in cui le nostre credenze entrano in contrasto tra loro e non è più così ovvio che cosa è reale e che cosa non lo è. \nAttraverso esperimenti psicologici\, illusioni percettive e momenti di lettura del pensiero\, il pubblico sarà protagonista di performance che sfidano l’impossibile. \nUno spettacolo sovversivo\, potente\, rivoluzionario\, che ti porta a camminare sul confine tra realtà e finzione… per arrivare a rendersi conto che si tratta di una linea molto più sfumata di quello che siamo disposti ad accettare. \nE tu sei pronto a mettere in questione tutte le tue certezze? \nACQUISTA BIGLIETTI \n  \n﻿﻿
URL:https://thinkshow.it/event/thnk-brescia/
ATTACH;FMTTYPE=image/jpeg:https://thinkshow.it/wp-content/uploads/2025/07/Brescia.jpg
END:VEVENT
BEGIN:VEVENT
DTSTART;VALUE=DATE:20251130
DTEND;VALUE=DATE:20251201
DTSTAMP:20260422T122851
CREATED:20250701T145521Z
LAST-MODIFIED:20251006T130251Z
UID:10000002-1764460800-1764547199@thinkshow.it
SUMMARY:TH!NK - Bergamo
DESCRIPTION:TH!NK arriva il 30 novembre al Cineteatro Colognola di Bergamo: Un viaggio sorprendente che fonde teatro\, letteratura e filosofia con illusioni mozzafiato\, per uno spettacolo che non si limita a stupire\, ma ti costringe a pensare per davvero. \nUn gioco di specchi in cui l’arte di leggere nella mente – resa celebre da serie televisive come The Mentalist o Lie to Me – diventa il punto di partenza per esplorare le contraddizioni del pensiero umano: “zone di frizione” in cui le nostre credenze entrano in contrasto tra loro e non è più così ovvio che cosa è reale e che cosa non lo è. \nAttraverso esperimenti psicologici\, illusioni percettive e momenti di lettura del pensiero\, il pubblico sarà protagonista di performance che sfidano l’impossibile. \nUno spettacolo sovversivo\, potente\, rivoluzionario\, che ti porta a camminare sul confine tra realtà e finzione… per arrivare a rendersi conto che si tratta di una linea molto più sfumata di quello che siamo disposti ad accettare. \nE tu sei pronto a mettere in questione tutte le tue certezze? \nACQUISTA BIGLIETTI \n  \n﻿﻿
URL:https://thinkshow.it/event/thnk-bergamo/
ATTACH;FMTTYPE=image/jpeg:https://thinkshow.it/wp-content/uploads/2025/07/Bergamo.jpg
END:VEVENT
BEGIN:VEVENT
DTSTART;VALUE=DATE:20251129
DTEND;VALUE=DATE:20251130
DTSTAMP:20260422T122851
CREATED:20250701T144348Z
LAST-MODIFIED:20251006T130326Z
UID:10000001-1764374400-1764460799@thinkshow.it
SUMMARY:TH!NK - Milano
DESCRIPTION:TH!NK arriva il 29 novembre al Teatro Lirico di Milano: Un viaggio sorprendente che fonde teatro\, letteratura e filosofia con illusioni mozzafiato\, per uno spettacolo che non si limita a stupire\, ma ti costringe a pensare per davvero. \nUn gioco di specchi in cui l’arte di leggere nella mente – resa celebre da serie televisive come The Mentalist o Lie to Me – diventa il punto di partenza per esplorare le contraddizioni del pensiero umano: “zone di frizione” in cui le nostre credenze entrano in contrasto tra loro e non è più così ovvio che cosa è reale e che cosa non lo è. \nAttraverso esperimenti psicologici\, illusioni percettive e momenti di lettura del pensiero\, il pubblico sarà protagonista di performance che sfidano l’impossibile. \nUno spettacolo sovversivo\, potente\, rivoluzionario\, che ti porta a camminare sul confine tra realtà e finzione… per arrivare a rendersi conto che si tratta di una linea molto più sfumata di quello che siamo disposti ad accettare. \nE tu sei pronto a mettere in questione tutte le tue certezze? \nACQUISTA BIGLIETTI \n  \n﻿﻿
URL:https://thinkshow.it/event/thnk-milano/
ATTACH;FMTTYPE=image/jpeg:https://thinkshow.it/wp-content/uploads/2025/07/Milano.jpg
END:VEVENT
BEGIN:VEVENT
DTSTART;VALUE=DATE:20251127
DTEND;VALUE=DATE:20251128
DTSTAMP:20260422T122851
CREATED:20250724T131922Z
LAST-MODIFIED:20251006T125801Z
UID:10000006-1764201600-1764287999@thinkshow.it
SUMMARY:TH!NK - Gallarate
DESCRIPTION:TH!NK arriva il 27 novembre al Teatro Condominio di Gallarate: Un viaggio sorprendente che fonde teatro\, letteratura e filosofia con illusioni mozzafiato\, per uno spettacolo che non si limita a stupire\, ma ti costringe a pensare per davvero. \nUn gioco di specchi in cui l’arte di leggere nella mente – resa celebre da serie televisive come The Mentalist o Lie to Me – diventa il punto di partenza per esplorare le contraddizioni del pensiero umano: “zone di frizione” in cui le nostre credenze entrano in contrasto tra loro e non è più così ovvio che cosa è reale e che cosa non lo è. \nAttraverso esperimenti psicologici\, illusioni percettive e momenti di lettura del pensiero\, il pubblico sarà protagonista di performance che sfidano l’impossibile. \nUno spettacolo sovversivo\, potente\, rivoluzionario\, che ti porta a camminare sul confine tra realtà e finzione… per arrivare a rendersi conto che si tratta di una linea molto più sfumata di quello che siamo disposti ad accettare. \nE tu sei pronto a mettere in questione tutte le tue certezze? \nACQUISTA BIGLIETTI \n  \n﻿﻿
URL:https://thinkshow.it/event/thnk-gallarate/
ATTACH;FMTTYPE=image/jpeg:https://thinkshow.it/wp-content/uploads/2025/07/Gallarate.jpg
END:VEVENT
END:VCALENDAR